BEGIN:VCALENDAR
VERSION:2.0
PRODID:-//FuarList - ECPv6.15.20//NONSGML v1.0//EN
CALSCALE:GREGORIAN
METHOD:PUBLISH
X-WR-CALNAME:FuarList
X-ORIGINAL-URL:https://fuarlist.com
X-WR-CALDESC:FuarList için etkinlikler
REFRESH-INTERVAL;VALUE=DURATION:PT1H
X-Robots-Tag:noindex
X-PUBLISHED-TTL:PT1H
BEGIN:VTIMEZONE
TZID:Europe/Istanbul
BEGIN:STANDARD
TZOFFSETFROM:+0300
TZOFFSETTO:+0300
TZNAME:+03
DTSTART:20250101T000000
END:STANDARD
END:VTIMEZONE
BEGIN:VEVENT
DTSTART;TZID=Europe/Istanbul:20260415T100000
DTEND;TZID=Europe/Istanbul:20260417T200000
DTSTAMP:20260420T232821
CREATED:20260228T223806Z
LAST-MODIFIED:20260228T223919Z
UID:10000997-1776247200-1776456000@fuarlist.com
SUMMARY:CFEX Tarım Kimyasalları ve Gübre Fuarı
DESCRIPTION:CFEX 2026\, tarım kimyasalları ve gübre sektöründeki en son yeniliklerin\, ürünlerin ve teknolojilerin sergilendiği uluslararası bir iş ve bilgi platformudur.
URL:https://fuarlist.com/fuar/cfex-tarim-ve-gubre-fuari/
LOCATION:Antalya\, Muratpaşa\, Hükümet Konağı\, 07280 Muratpaşa\, Antalya\, 07280\, Türkiye
CATEGORIES:Antalya,Tarım ve Hayvancılık
ATTACH;FMTTYPE=image/jpeg:https://fuarlist.com/wp-content/uploads/tarim-gubre-1.03.2026-01-36-32.jpg
ORGANIZER;CN="B2B Fairs":MAILTO:info@b2b-fairs.com
GEO:36.888245;30.70711
X-APPLE-STRUCTURED-LOCATION;VALUE=URI;X-ADDRESS=Antalya Muratpaşa Hükümet Konağı 07280 Muratpaşa Antalya 07280 Türkiye;X-APPLE-RADIUS=500;X-TITLE=Muratpaşa\, Hükümet Konağı\, 07280 Muratpaşa:geo:30.70711,36.888245
END:VEVENT
END:VCALENDAR