BEGIN:VCALENDAR
VERSION:2.0
PRODID:-//FuarList - ECPv6.15.20//NONSGML v1.0//EN
CALSCALE:GREGORIAN
METHOD:PUBLISH
X-ORIGINAL-URL:https://fuarlist.com
X-WR-CALDESC:FuarList için etkinlikler
REFRESH-INTERVAL;VALUE=DURATION:PT1H
X-Robots-Tag:noindex
X-PUBLISHED-TTL:PT1H
BEGIN:VTIMEZONE
TZID:Europe/Istanbul
BEGIN:STANDARD
TZOFFSETFROM:+0300
TZOFFSETTO:+0300
TZNAME:+03
DTSTART:20190101T000000
END:STANDARD
END:VTIMEZONE
BEGIN:VEVENT
DTSTART;VALUE=DATE:20211103
DTEND;VALUE=DATE:20211107
DTSTAMP:20260417T105955
CREATED:20191229T162018Z
LAST-MODIFIED:20230111T153853Z
UID:10000248-1635897600-1636243199@fuarlist.com
SUMMARY:Avrasya Pencere Fuarı
DESCRIPTION:Avrasya Pencere 2021 21. Uluslararası Pencere\, Panjur\, Cephe Sistemleri Aksesuarları\, Profil Teknolojileri ve Makineleri\, Yalıtım Malzemeleri\, Hammadde ve Tamamlayıcı Ürünler Fuarı (Alüminyum Profil\, Cephe Sistemleri ve Aksesuarları Özel Bölümü Gölgelendirme\, Koruma ve Kapatma Sistemleri Özel Bölümü) 3-6 Kasım tarihleri arasında yapılacak.
URL:https://fuarlist.com/fuar/avrasya-pencere-fuari/
LOCATION:İstanbul\, İstanbul\, Türkiye
CATEGORIES:Diğer
ATTACH;FMTTYPE=image/jpeg:https://fuarlist.com/wp-content/uploads/cam-06.11.2021-04-13-12.jpg
ORGANIZER;CN="Reed T%C3%BCyap Fuarc%C4%B1l%C4%B1k":MAILTO:info@reedtuyap.com.tr
GEO:41.0100649;29.1292122
END:VEVENT
BEGIN:VEVENT
DTSTART;VALUE=DATE:20211103
DTEND;VALUE=DATE:20211107
DTSTAMP:20260417T105955
CREATED:20191229T161456Z
LAST-MODIFIED:20240106T015204Z
UID:10000247-1635897600-1636243199@fuarlist.com
SUMMARY:Avrasya Cam Fuarı
DESCRIPTION:Avrasya Cam 2021 – 11. Uluslarası Cam Ürünleri ve Uygulamaları\, Üretim-İşleme Teknolojileri ve Makineleri\, Tamamlayıcı Ürün ve Kimyasalları Fuarı 3-6 Kasım tarihleri arasında yapılacak.
URL:https://fuarlist.com/fuar/avrasya-cam-fuari/
LOCATION:İstanbul\, İstanbul\, Türkiye
CATEGORIES:Diğer
ATTACH;FMTTYPE=image/jpeg:https://fuarlist.com/wp-content/uploads/cam-06.11.2021-04-15-08.jpg
ORGANIZER;CN="Reed T%C3%BCyap Fuarc%C4%B1l%C4%B1k":MAILTO:info@reedtuyap.com.tr
GEO:41.0100649;29.1292122
END:VEVENT
BEGIN:VEVENT
DTSTART;VALUE=DATE:20211103
DTEND;VALUE=DATE:20211107
DTSTAMP:20260417T105955
CREATED:20191229T160832Z
LAST-MODIFIED:20240106T015209Z
UID:10000246-1635897600-1636243199@fuarlist.com
SUMMARY:Avrasya Kapı Fuarı
DESCRIPTION:Avrasya Kapı – Uluslararası Kapı\, Kepenk\, Kilit\, Panel\, Pano\, Bölme Sistem ve Aksesuarları Fuarı 3-6 Kasım tarihleri arasında yapılacak.
URL:https://fuarlist.com/fuar/avrasya-kapi-fuari/
LOCATION:İstanbul\, İstanbul\, Türkiye
CATEGORIES:Diğer,İnşaat ve Yapı
ATTACH;FMTTYPE=image/jpeg:https://fuarlist.com/wp-content/uploads/kapi-06.11.2021-04-07-28.jpg
ORGANIZER;CN="Reed T%C3%BCyap Fuarc%C4%B1l%C4%B1k":MAILTO:info@reedtuyap.com.tr
GEO:41.0100649;29.1292122
END:VEVENT
BEGIN:VEVENT
DTSTART;TZID=Europe/Istanbul:20211020T100000
DTEND;TZID=Europe/Istanbul:20211022T200000
DTSTAMP:20260417T105955
CREATED:20190816T094028Z
LAST-MODIFIED:20240106T015231Z
UID:10000396-1634724000-1634932800@fuarlist.com
SUMMARY:Türk - Arap Gayrimenkul\, Proje\, Yatırım\, Finansman Fuarı
DESCRIPTION:Türk-Arap Gayrimenkul\, Proje\, Yatırım\, Finansman Fuarı İşbirliği Organizasyonu Hotel Pullman Airport Convention Center’da başlıyor.
URL:https://fuarlist.com/fuar/turk-arap-gayrimenkul-proje-yatirim-finansman-fuari-isbirligi-organizasyonu/
LOCATION:İstanbul\, İstanbul\, Türkiye
CATEGORIES:Gayrimenkul
ATTACH;FMTTYPE=image/jpeg:https://fuarlist.com/wp-content/uploads/fuarlist-default-genel-28.10.2020-22-21-43.jpg
ORGANIZER;CN="Turab Fuarc%C4%B1l%C4%B1k":MAILTO:info@turabexpo.com
GEO:41.0100649;29.1292122
END:VEVENT
BEGIN:VEVENT
DTSTART;TZID=Europe/Istanbul:20211020T100000
DTEND;TZID=Europe/Istanbul:20211022T190000
DTSTAMP:20260417T105955
CREATED:20190811T160610Z
LAST-MODIFIED:20240106T015238Z
UID:10000225-1634724000-1634929200@fuarlist.com
SUMMARY:Robot Yatırımları Zirvesi ve Sergisi
DESCRIPTION:6. Robot Yatırımları Zirvesi ve Sergisi\, WOW İstanbul Hotels & Convention Center’da sizleri bekliyor.
URL:https://fuarlist.com/fuar/robot-yatirimlari-zirvesi-ve-sergisi/
LOCATION:İstanbul\, İstanbul\, Türkiye
CATEGORIES:Teknoloji
ATTACH;FMTTYPE=image/jpeg:https://fuarlist.com/wp-content/uploads/robot-15.10.2020-04-53-48.jpg
ORGANIZER;CN="ST Alternatif Fuarc%C4%B1l%C4%B1k":MAILTO:info@stalternatif.com
GEO:41.0100649;29.1292122
END:VEVENT
BEGIN:VEVENT
DTSTART;TZID=Europe/Istanbul:20211020T090000
DTEND;TZID=Europe/Istanbul:20211022T200000
DTSTAMP:20260417T105955
CREATED:20190811T161010Z
LAST-MODIFIED:20240106T015241Z
UID:10000227-1634720400-1634932800@fuarlist.com
SUMMARY:Endüstri 4.0 Uygulamaları Zirvesi ve Sergisi
DESCRIPTION:2. Endüstri 4.0 Uygulamaları Zirvesi ve Sergisi\, Ekim 2021’de WOW İstanbul Hotels & Convention Center’da başlıyor.
URL:https://fuarlist.com/fuar/endustri-4-0-uygulamalari-zirvesi-ve-sergisi/
LOCATION:İstanbul\, İstanbul\, Türkiye
CATEGORIES:Diğer
ATTACH;FMTTYPE=image/jpeg:https://fuarlist.com/wp-content/uploads/endustri-teknoloji-15.10.2020-04-47-19.jpg
ORGANIZER;CN="ST Alternatif Fuarc%C4%B1l%C4%B1k":MAILTO:info@stalternatif.com
GEO:41.0100649;29.1292122
END:VEVENT
BEGIN:VEVENT
DTSTART;VALUE=DATE:20211020
DTEND;VALUE=DATE:20211024
DTSTAMP:20260417T105955
CREATED:20200123T181115Z
LAST-MODIFIED:20240106T015247Z
UID:10000332-1634688000-1635033599@fuarlist.com
SUMMARY:CNR Kauçuk: K+ Kauçuk ve Plastik Fuarı
DESCRIPTION:Avrupa’nın iki büyük sektöründen biri olan Türk kauçuk ve plastik sektörünün\, Türkiye’deki en büyük ticaret platformu K+ Kauçuk ve Plastik Fuarı\, 20-23 Ekim 2021 tarihleri arasında\, global ticaretin merkezi CNR Expo İstanbul Fuar Merkezi’nde organize edilecek.
URL:https://fuarlist.com/fuar/cnr-kaucuk/
LOCATION:İstanbul\, İstanbul\, Türkiye
CATEGORIES:Diğer
ATTACH;FMTTYPE=image/jpeg:https://fuarlist.com/wp-content/uploads/2020/01/kaucuk-31.05.2020-21-40-29.jpg
ORGANIZER;CN="Pozitif Fuarc%C4%B1l%C4%B1k":MAILTO:info@cnrholding.com
GEO:41.0100649;29.1292122
END:VEVENT
BEGIN:VEVENT
DTSTART;TZID=Europe/Istanbul:20211015T090000
DTEND;TZID=Europe/Istanbul:20211016T200000
DTSTAMP:20260417T105955
CREATED:20190814T101912Z
LAST-MODIFIED:20240106T015249Z
UID:10000350-1634288400-1634414400@fuarlist.com
SUMMARY:ARCHITECT@WORK TURKEY
DESCRIPTION:ARCHITECT@WORK TURKEY İstanbul Fuar Merkezi Yeşilköy’de başlıyor.
URL:https://fuarlist.com/fuar/architectwork-turkey/
LOCATION:İstanbul\, İstanbul\, Türkiye
CATEGORIES:Diğer
ATTACH;FMTTYPE=image/jpeg:https://fuarlist.com/wp-content/uploads/mimarlik-cizim-tasarim-15.10.2020-06-28-12.jpg
GEO:41.0100649;29.1292122
END:VEVENT
BEGIN:VEVENT
DTSTART;VALUE=DATE:20211007
DTEND;VALUE=DATE:20211011
DTSTAMP:20260417T105955
CREATED:20211025T001800Z
LAST-MODIFIED:20240106T015250Z
UID:10000426-1633564800-1633910399@fuarlist.com
SUMMARY:ExpoNatura
DESCRIPTION:ExpoNatura\, 11. Doğal\, Organik ve Sağlıklı Ürünler Fuarı 7-10  Ekim tarihleri arasında İstanbul Fuar Merkezi’nde düzenlenecek.
URL:https://fuarlist.com/fuar/exponatura/
LOCATION:İstanbul\, İstanbul\, Türkiye
CATEGORIES:Diğer,Sağlık
ATTACH;FMTTYPE=image/jpeg:https://fuarlist.com/wp-content/uploads/sebze-25.10.2021-03-16-20.jpg
ORGANIZER;CN="Tureks Fuarc%C4%B1l%C4%B1k":MAILTO:tureks@tureksfuar.com.tr
GEO:41.0100649;29.1292122
END:VEVENT
BEGIN:VEVENT
DTSTART;TZID=Europe/Istanbul:20211006T100000
DTEND;TZID=Europe/Istanbul:20211009T200000
DTSTAMP:20260417T105955
CREATED:20190812T084751Z
LAST-MODIFIED:20240106T015254Z
UID:10000237-1633514400-1633809600@fuarlist.com
SUMMARY:CNR PROMEXPO
DESCRIPTION:Promosyon sektörünün uluslararası nitelikteki tek buluşma platformu Kurumsal Hediye ve Promosyon Ürünleri Fuarı PROMEXPO\, 8–11 Ekim 2020 tarihleri arasında CNR EXPO Yeşilköy’de 33. kez kapılarını açıyor.
URL:https://fuarlist.com/fuar/cnr-promexpo/
LOCATION:İstanbul\, İstanbul\, Türkiye
CATEGORIES:Diğer
ATTACH;FMTTYPE=image/jpeg:https://fuarlist.com/wp-content/uploads/2020/01/promosyon-30.07.2020-01-43-48.jpg
ORGANIZER;CN="%C4%B0stanbul Fuarc%C4%B1l%C4%B1k":MAILTO:info@itf-exhibitions.com
GEO:41.0100649;29.1292122
END:VEVENT
BEGIN:VEVENT
DTSTART;VALUE=DATE:20211006
DTEND;VALUE=DATE:20211010
DTSTAMP:20260417T105955
CREATED:20190811T101052Z
LAST-MODIFIED:20240106T015257Z
UID:10000058-1633478400-1633823999@fuarlist.com
SUMMARY:IstanbulLight
DESCRIPTION:İstanbullight Uluslararası Aydınlatma\, Elektrik Malzemeleri Fuarı ve Kongresi\, İstanbul Fuar Merkezi’nde sizleri bekliyor.
URL:https://fuarlist.com/fuar/istanbullight/
LOCATION:İstanbul\, İstanbul\, Türkiye
CATEGORIES:Diğer,Popüler
ATTACH;FMTTYPE=image/jpeg:https://fuarlist.com/wp-content/uploads/2019/08/isik-30.05.2020-19-20-59.jpg
GEO:41.0100649;29.1292122
END:VEVENT
BEGIN:VEVENT
DTSTART;TZID=Europe/Istanbul:20210923T100000
DTEND;TZID=Europe/Istanbul:20210926T200000
DTSTAMP:20260417T105955
CREATED:20200126T234444Z
LAST-MODIFIED:20240106T015302Z
UID:10000662-1632391200-1632686400@fuarlist.com
SUMMARY:Airex İstanbul Airshow: Uluslararası Sivil Havacılık ve Havalimanları Fuarı
DESCRIPTION:Airex-İstanbul Airshow 13. Uluslararası Sivil Havacılık ve Havalimanları Fuarı İstanbul Atatürk Havalimanı A14 Apronu yapılacak. \nAvrasya havacılık ve havalimanları pazarının buluşma noktası. \nBalkanlardan başlayıp Orta Asya’daki Türk cumhuriyetleri’ne kadar\, bölgedeki ulusların her birinin kendi özellikleri olsa da\, havacılık ve havalimanı endüstrilerindeki uzun sürede birikmiş ve yeni ortaya çıkan ihtiyaçları arasındaki benzerlikler\, farklılıklarını geçmiştir. \nBölgedeki diğer ülkelerden daha önce yeniden yapılandırma dönemine girmiş bir ülke olarak Türkiye\, söz konusu Pazar için mükemmel bir kıstas oluşturmakta ve Avrasya’daki havacılık ve havalimanı endüstrisi için önemli bir lider rol üstlenmektedir.
URL:https://fuarlist.com/fuar/airex-istanbul-airshow/
LOCATION:İstanbul\, İstanbul\, Türkiye
CATEGORIES:Diğer,Popüler
ATTACH;FMTTYPE=image/jpeg:https://fuarlist.com/wp-content/uploads/2020/01/ucak-havacilik-26.08.2020-17-20-55.jpg
ORGANIZER;CN="Mint Fuarc%C4%B1l%C4%B1k":MAILTO:application@expomint.com
GEO:41.0100649;29.1292122
END:VEVENT
BEGIN:VEVENT
DTSTART;VALUE=DATE:20210922
DTEND;VALUE=DATE:20210925
DTSTAMP:20260417T105955
CREATED:20200127T210140Z
LAST-MODIFIED:20230111T154223Z
UID:10000674-1632268800-1632527999@fuarlist.com
SUMMARY:Yapex Restorasyon Kültür Mirası ve Koruma Fuarı
DESCRIPTION:Yapex Restorasyon Kültür Mirası ve Koruma Fuarı sektörün ilgilileri ile buluşuyor. \n 
URL:https://fuarlist.com/fuar/yapex-restorasyon-kultur-mirasi-ve-koruma-fuari/
LOCATION:İstanbul\, İstanbul\, Türkiye
CATEGORIES:Diğer
ATTACH;FMTTYPE=image/jpeg:https://fuarlist.com/wp-content/uploads/fuarlist-default-genel-28.10.2020-22-21-43.jpg
ORGANIZER;CN="Akdeniz Tan%C4%B1t%C4%B1m":MAILTO:info@yapex.com
GEO:41.0100649;29.1292122
END:VEVENT
BEGIN:VEVENT
DTSTART;VALUE=DATE:20210909
DTEND;VALUE=DATE:20210913
DTSTAMP:20260417T105955
CREATED:20210701T114037Z
LAST-MODIFIED:20240106T015826Z
UID:10000414-1631145600-1631491199@fuarlist.com
SUMMARY:81 Renk Türkiye Fuarı
DESCRIPTION:81 Renk Türkiye Fuarı 09-12 Eylül tarihleri arasında İstanbul Yenikapı Avrasya Gösteri Merkezi’nde.
URL:https://fuarlist.com/fuar/81-renk-turkiye-fuari/
LOCATION:İstanbul\, İstanbul\, Türkiye
CATEGORIES:Turizm
ATTACH;FMTTYPE=image/jpeg:https://fuarlist.com/wp-content/uploads/81-renk-turkiye-01.07.2021-14-39-38.jpg
ORGANIZER;CN="Rasyo Fuarc%C4%B1l%C4%B1k":MAILTO:info@81renkturkiye.com
GEO:41.0100649;29.1292122
END:VEVENT
BEGIN:VEVENT
DTSTART;VALUE=DATE:20210902
DTEND;VALUE=DATE:20210905
DTSTAMP:20260417T105955
CREATED:20190813T131329Z
LAST-MODIFIED:20240106T015830Z
UID:10000113-1630540800-1630799999@fuarlist.com
SUMMARY:ENTECH
DESCRIPTION:ENTECH: Çevre Teknolojileri\, Geri Dönüşüm ve Sıfır Atık Fuarı 2-4 Eylül 2021 tarihleri arasında İstanbul Fuar Merkezi Yeşilköy’de başlıyor.
URL:https://fuarlist.com/fuar/entech/
LOCATION:İstanbul\, İstanbul\, Türkiye
CATEGORIES:Enerji
ATTACH;FMTTYPE=image/jpeg:https://fuarlist.com/wp-content/uploads/2019/08/geri-donusum-13.08.2020-02-16-58.jpg
ORGANIZER;CN="Pozitif Fuarc%C4%B1l%C4%B1k":MAILTO:info@cnrholding.com
GEO:41.0100649;29.1292122
END:VEVENT
BEGIN:VEVENT
DTSTART;VALUE=DATE:20210826
DTEND;VALUE=DATE:20210830
DTSTAMP:20260417T105955
CREATED:20210620T161440Z
LAST-MODIFIED:20240106T015833Z
UID:10000733-1629936000-1630281599@fuarlist.com
SUMMARY:CNR Florist
DESCRIPTION:CNR Florist\, Çiçekçilik\, Seracılık ve Ekipmanları Fuarı sektörün ilgilileri ile buluşuyor.
URL:https://fuarlist.com/fuar/cnr-florist/
LOCATION:İstanbul\, İstanbul\, Türkiye
CATEGORIES:Diğer
ATTACH;FMTTYPE=image/jpeg:https://fuarlist.com/wp-content/uploads/2019/06/gul-cicek-07.06.2020-11-05-56.jpg
ORGANIZER;CN="Pozitif Fuarc%C4%B1l%C4%B1k":MAILTO:info@cnrholding.com
GEO:41.0100649;29.1292122
END:VEVENT
BEGIN:VEVENT
DTSTART;VALUE=DATE:20210803
DTEND;VALUE=DATE:20210809
DTSTAMP:20260417T105955
CREATED:20200127T203052Z
LAST-MODIFIED:20240106T015841Z
UID:10000671-1627948800-1628467199@fuarlist.com
SUMMARY:CNR IMOB Fuarı
DESCRIPTION:CNR IMOB OBJEC: İstanbul Mobilya\, Ev Tekstili\, Tasarım\, Dekorasyon ve Aydınlatma Fuarı 3-8 Ağustos tarihleri arasında CNR EXPO İstanbul Fuar Merkezi’nde düzenlenecek.
URL:https://fuarlist.com/fuar/cnr-imob/
LOCATION:İstanbul\, İstanbul\, Türkiye
CATEGORIES:Mobilya ve Dekorasyon,Tekstil
ATTACH;FMTTYPE=image/jpeg:https://fuarlist.com/wp-content/uploads/2019/08/mobilya-26.08.2020-22-03-35.jpg
ORGANIZER;CN="Pozitif Fuarc%C4%B1l%C4%B1k":MAILTO:info@cnrholding.com
GEO:41.0100649;29.1292122
END:VEVENT
BEGIN:VEVENT
DTSTART;VALUE=DATE:20210408
DTEND;VALUE=DATE:20210412
DTSTAMP:20260417T105955
CREATED:20210225T223705Z
LAST-MODIFIED:20240106T015855Z
UID:10000729-1617840000-1618185599@fuarlist.com
SUMMARY:İstanbul Medical Show
DESCRIPTION:İstanbul Medical Show 08-11 Nisan 2021 tarihleri arasında CNR EXPO İstanbul Fuar Merkezi’nde düzenlenecek.
URL:https://fuarlist.com/fuar/istanbul-medical-show/
LOCATION:İstanbul\, İstanbul\, Türkiye
CATEGORIES:Popüler,Sağlık
ATTACH;FMTTYPE=image/jpeg:https://fuarlist.com/wp-content/uploads/saglik-doktor-hastane-26.02.2021-01-32-50.jpg
ORGANIZER;CN="Pozitif Fuarc%C4%B1l%C4%B1k":MAILTO:info@cnrholding.com
GEO:41.0100649;29.1292122
END:VEVENT
BEGIN:VEVENT
DTSTART;VALUE=DATE:20210318
DTEND;VALUE=DATE:20210322
DTSTAMP:20260417T105955
CREATED:20210205T001941Z
LAST-MODIFIED:20240106T020802Z
UID:10000724-1616025600-1616371199@fuarlist.com
SUMMARY:Bedding World
DESCRIPTION:Yatak teknolojilerinin\, üstün kalite hammaddelerin ve ürünlerin bir arada sunulacağı Türkiye’nin tek ticari platformu Bedding World\, 18-21 Mart 2021 tarihleri arasında CNR EXPO İstanbul Fuar Merkezi’nde sektör profesyonellerini buluşturacak.
URL:https://fuarlist.com/fuar/bedding-world/
LOCATION:İstanbul\, İstanbul\, Türkiye
CATEGORIES:Diğer
ATTACH;FMTTYPE=image/jpeg:https://fuarlist.com/wp-content/uploads/yatak-uyku-05.02.2021-03-17-49.jpg
ORGANIZER;CN="%C4%B0stanbul Fuarc%C4%B1l%C4%B1k":MAILTO:info@itf-exhibitions.com
GEO:41.0100649;29.1292122
END:VEVENT
BEGIN:VEVENT
DTSTART;TZID=Europe/Istanbul:20201216T100000
DTEND;TZID=Europe/Istanbul:20201219T180000
DTSTAMP:20260417T105955
CREATED:20200128T012636Z
LAST-MODIFIED:20240106T020837Z
UID:10000370-1608112800-1608400800@fuarlist.com
SUMMARY:İstanbul Health Expo
DESCRIPTION:İstanbul Health Expo Medikal Ürün\, Ekipman ve Sağlık Turizmi Fuarı\, 16-19 Aralık 2020 tarihleri arasında Uluslararası İş Sağlığı ve Güvenliği Kongresi ile birlikte eş zamanlı olarak CNR Expo Yeşilköy’de düzenlenecek.
URL:https://fuarlist.com/fuar/istanbul-health-expo-medikal-urun-ekipman-ve-saglik-turizmi-fuari/
LOCATION:İstanbul\, İstanbul\, Türkiye
CATEGORIES:Diğer,Sağlık,Turizm
ATTACH;FMTTYPE=image/jpeg:https://fuarlist.com/wp-content/uploads/saglik-12.12.2020-02-43-02.jpg
ORGANIZER;CN="Pozitif Fuarc%C4%B1l%C4%B1k":MAILTO:info@cnrholding.com
GEO:41.0100649;29.1292122
END:VEVENT
BEGIN:VEVENT
DTSTART;VALUE=DATE:20201216
DTEND;VALUE=DATE:20201220
DTSTAMP:20260417T105955
CREATED:20190604T235855Z
LAST-MODIFIED:20240106T020843Z
UID:10000108-1608076800-1608422399@fuarlist.com
SUMMARY:İSG İş Sağlığı ve Güvenliği Fuarı
DESCRIPTION:CNR Holding kuruluşlarından Pozitif Fuarcılık tarafından organize edilen İSG-İş sağlığı ve Güvenliği Fuarı\, 16-19 Aralık 2020 tarihleri arasında Uluslararası İş Sağlığı ve Güvenliği Kongresi ile birlikte eş zamanlı olarak CNR Expo Yeşilköy’de düzenlenecek.
URL:https://fuarlist.com/fuar/isg-is-sagligi-ve-guvenligi-fuari/
LOCATION:İstanbul\, İstanbul\, Türkiye
CATEGORIES:Diğer
ATTACH;FMTTYPE=image/jpeg:https://fuarlist.com/wp-content/uploads/2019/08/insaat-27.05.2020-05-36-08.jpg
ORGANIZER;CN="Pozitif Fuarc%C4%B1l%C4%B1k":MAILTO:info@cnrholding.com
GEO:41.0100649;29.1292122
END:VEVENT
BEGIN:VEVENT
DTSTART;TZID=Europe/Istanbul:20201211T100000
DTEND;TZID=Europe/Istanbul:20201213T200000
DTSTAMP:20260417T105955
CREATED:20191127T175627Z
LAST-MODIFIED:20240106T020846Z
UID:10000195-1607680800-1607889600@fuarlist.com
SUMMARY:İBS Anne Bebek Çocuk Fuarı
DESCRIPTION:İBS Anne Bebek Çocuk Fuarı 11-13 Aralık tarihleri arasında İstanbul Kongre Merkezi Yeşilköy’de düzenlenecek.
URL:https://fuarlist.com/fuar/ibs-anne-bebek-cocuk-fuari/
LOCATION:İstanbul\, İstanbul\, Türkiye
CATEGORIES:Bebek ve Çocuk
ATTACH;FMTTYPE=image/jpeg:https://fuarlist.com/wp-content/uploads/2019/12/anne-bebek-04.06.2020-00-19-50.jpg
ORGANIZER;CN="Boyut Fuarc%C4%B1l%C4%B1k":MAILTO:info@boyutgroup.net
GEO:41.0100649;29.1292122
END:VEVENT
BEGIN:VEVENT
DTSTART;TZID=Europe/Istanbul:20201208T100000
DTEND;TZID=Europe/Istanbul:20201209T200000
DTSTAMP:20260417T105955
CREATED:20191127T161108Z
LAST-MODIFIED:20240106T020853Z
UID:10000462-1607421600-1607544000@fuarlist.com
SUMMARY:Yerli Market Haftası Fuarı
DESCRIPTION:Yerli Market Haftası Fuarı 8-9 Aralık tarihleri arasında İstanbul WOW Kongre Merkezi Yeşilköy’de düzenlenecek.
URL:https://fuarlist.com/fuar/yerli-market-haftasi-fuari/
LOCATION:İstanbul\, İstanbul\, Türkiye
ATTACH;FMTTYPE=:
ORGANIZER;CN="Pin Fuarc%C4%B1l%C4%B1k":MAILTO:feren@pin.com.tr
GEO:41.0100649;29.1292122
END:VEVENT
BEGIN:VEVENT
DTSTART;TZID=Europe/Istanbul:20201202T100000
DTEND;TZID=Europe/Istanbul:20201205T180000
DTSTAMP:20260417T105955
CREATED:20201015T013037Z
LAST-MODIFIED:20240106T020859Z
UID:10000720-1606903200-1607191200@fuarlist.com
SUMMARY:Tesis Yönetim Fuarı
DESCRIPTION:Tesis Yönetim Hizmetleri\, Ürün ve Teknolojileri Fuarı
URL:https://fuarlist.com/fuar/tesis-yonetim-fuari/
LOCATION:İstanbul\, İstanbul\, Türkiye
CATEGORIES:Diğer
ATTACH;FMTTYPE=image/jpeg:https://fuarlist.com/wp-content/uploads/tesis-yonetim-15.10.2020-04-29-52.jpg
ORGANIZER;CN="Tepe Fuarc%C4%B1l%C4%B1k":MAILTO:info@tepefuarcilik.com
GEO:41.0100649;29.1292122
END:VEVENT
BEGIN:VEVENT
DTSTART;TZID=Europe/Istanbul:20201202T100000
DTEND;TZID=Europe/Istanbul:20201205T180000
DTSTAMP:20260417T105955
CREATED:20200112T212351Z
LAST-MODIFIED:20240106T020907Z
UID:10000583-1606903200-1607191200@fuarlist.com
SUMMARY:ISEC Güvenlik Fuarı
DESCRIPTION:ISEC – Anayurt Güvenliği\, İç Güvenlik Ekipmanları ve Teknolojileri Fuarı sektörün öncüleriyle buluşuyor.
URL:https://fuarlist.com/fuar/isec/
LOCATION:İstanbul\, İstanbul\, Türkiye
CATEGORIES:Diğer
ATTACH;FMTTYPE=image/jpeg:https://fuarlist.com/wp-content/uploads/fuarlist-default-genel-28.10.2020-22-21-43.jpg
ORGANIZER;CN="Pozitif Fuarc%C4%B1l%C4%B1k":MAILTO:info@cnrholding.com
GEO:41.0100649;29.1292122
END:VEVENT
BEGIN:VEVENT
DTSTART;TZID=Europe/Istanbul:20201118T100000
DTEND;TZID=Europe/Istanbul:20201121T200000
DTSTAMP:20260417T105955
CREATED:20200127T231701Z
LAST-MODIFIED:20240106T021101Z
UID:10000689-1605693600-1605988800@fuarlist.com
SUMMARY:MÜSİAD Expo Fuarı
DESCRIPTION:MÜSİAD EXPO 2020 Müsiad Ticaret Fuarı 18-21 Kasım tarihleri arasında yapılacak.
URL:https://fuarlist.com/fuar/musiad-expo-musiad-ticaret-fuari/
LOCATION:İstanbul\, İstanbul\, Türkiye
CATEGORIES:Diğer
ATTACH;FMTTYPE=image/jpeg:https://fuarlist.com/wp-content/uploads/musiad-expo-21.10.2020-10-05-39.jpg
ORGANIZER;CN="T%C3%9CYAP":MAILTO:tuyap@tuyap.com.tr
GEO:41.0100649;29.1292122
END:VEVENT
BEGIN:VEVENT
DTSTART;TZID=Europe/Istanbul:20201117T100000
DTEND;TZID=Europe/Istanbul:20201119T190000
DTSTAMP:20260417T105955
CREATED:20190816T092937Z
LAST-MODIFIED:20240106T021103Z
UID:10000392-1605607200-1605812400@fuarlist.com
SUMMARY:CNR Fashionist
DESCRIPTION:CNR Fashionist 17-19 Kasım tarihleri arasında İstanbul Fuar Merkezi Yeşilköy’de yapılacak.
URL:https://fuarlist.com/fuar/cnr-fashionist/
LOCATION:İstanbul\, İstanbul\, Türkiye
CATEGORIES:Giyim ve Moda
ATTACH;FMTTYPE=image/jpeg:https://fuarlist.com/wp-content/uploads/abiye-gelinlik-29.10.2020-01-21-20.jpg
ORGANIZER;CN="%C4%B0stanbul Fuarc%C4%B1l%C4%B1k":MAILTO:info@itf-exhibitions.com
GEO:41.0100649;29.1292122
END:VEVENT
BEGIN:VEVENT
DTSTART;TZID=Europe/Istanbul:20201104T100000
DTEND;TZID=Europe/Istanbul:20201107T190000
DTSTAMP:20260417T105955
CREATED:20201008T153426Z
LAST-MODIFIED:20240106T021158Z
UID:10000716-1604484000-1604775600@fuarlist.com
SUMMARY:CNR Marble Tech İstanbul
DESCRIPTION:CNR Marble Tech İstanbul Mermer Makine Teknolojileri ve Ekipmanları Fuarı 4-7 Kasım 2020 tarihlerinde CNR Expo – İstanbul Fuar Merkezi’nde.
URL:https://fuarlist.com/fuar/marbletech-istanbul/
LOCATION:İstanbul\, İstanbul\, Türkiye
CATEGORIES:Diğer
ATTACH;FMTTYPE=image/jpeg:https://fuarlist.com/wp-content/uploads/mermer-08.10.2020-14-09-09.jpg
ORGANIZER;CN="Pozitif Fuarc%C4%B1l%C4%B1k":MAILTO:info@cnrholding.com
GEO:41.0100649;29.1292122
END:VEVENT
BEGIN:VEVENT
DTSTART;TZID=Europe/Istanbul:20201103T100000
DTEND;TZID=Europe/Istanbul:20201108T200000
DTSTAMP:20260417T105955
CREATED:20200127T201643Z
LAST-MODIFIED:20240106T021223Z
UID:10000359-1604397600-1604865600@fuarlist.com
SUMMARY:ARÜSDER Araç Üstü Ekipmanları Fuarı
DESCRIPTION:ARÜSDER 2020 – Araç Üstü Ekipmanları 3-8 Kasım tarihleri arasında yapılacak.
URL:https://fuarlist.com/fuar/arusder-arac-ustu-ekipmanlari/
LOCATION:İstanbul\, İstanbul\, Türkiye
CATEGORIES:Diğer
ATTACH;FMTTYPE=image/jpeg:https://fuarlist.com/wp-content/uploads/aracustu-kamyon-tir-28.10.2020-19-22-00.jpg
ORGANIZER;CN="Pozitif Fuarc%C4%B1l%C4%B1k":MAILTO:info@cnrholding.com
GEO:41.0100649;29.1292122
END:VEVENT
BEGIN:VEVENT
DTSTART;TZID=Europe/Istanbul:20201103T100000
DTEND;TZID=Europe/Istanbul:20201108T200000
DTSTAMP:20260417T105955
CREATED:20200127T201021Z
LAST-MODIFIED:20240106T021234Z
UID:10000357-1604397600-1604865600@fuarlist.com
SUMMARY:TIR EXPO
DESCRIPTION:TIR – EXPO 2020\, 3-8 Kasım tarihleri arasında İstanbul Fuar Merkezi’nde yapılacak.
URL:https://fuarlist.com/fuar/tir-expo/
LOCATION:İstanbul\, İstanbul\, Türkiye
CATEGORIES:Diğer
ATTACH;FMTTYPE=image/jpeg:https://fuarlist.com/wp-content/uploads/tir-28.10.2020-18-36-20.jpg
ORGANIZER;CN="Pozitif Fuarc%C4%B1l%C4%B1k":MAILTO:info@cnrholding.com
GEO:41.0100649;29.1292122
END:VEVENT
END:VCALENDAR